BEGIN:VCALENDAR
VERSION:2.0
PRODID:spatie/icalendar-generator
NAME:La plume et le pinceau
X-WR-CALNAME:La plume et le pinceau
DESCRIPTION:Ville de Saint-Sebastien-sur-Loire
X-WR-CALDESC:Ville de Saint-Sebastien-sur-Loire
BEGIN:VEVENT
UID:69eccec396a7f
SUMMARY:La plume et le pinceau
DESCRIPTION:L’Atelier Art’Bis (atelier d’arts plastiques) et la Plume
  au Vent (atelier d’écriture) de l’Amicale Laïque de Saint-Sébastie
 n vous présentent les fruits de leur collaboration : peintures et textes 
 courts autour du thème de « l’Intime ».\nExposition conjointe à la G
 are d’Anjou et à la Médiathèque Yves Laurent\, accompagnée de lectur
 es publiques le vendredi 29 mai à 20h et le samedi 30 mai à 11h.\n
DTSTART;TZID=Europe/Paris:20260519T000000
DTEND;TZID=Europe/Paris:20260530T235959
DTSTAMP;TZID=Europe/Paris:20260425T162507
END:VEVENT
END:VCALENDAR