BEGIN:VCALENDAR
VERSION:2.0
PRODID:spatie/icalendar-generator
NAME:Carnets d&rsquo\;ici et d&rsquo\;ailleurs
X-WR-CALNAME:Carnets d&rsquo\;ici et d&rsquo\;ailleurs
DESCRIPTION:Ville de Saint-Sebastien-sur-Loire
X-WR-CALDESC:Ville de Saint-Sebastien-sur-Loire
BEGIN:VEVENT
UID:69eccfa6ec9bf
SUMMARY:Carnets d’ici et d’ailleurs
DESCRIPTION:Exposition de carnets de voyages de Rachel Pandolfino\n
DTSTART;TZID=Europe/Paris:20260425T000000
DTEND;TZID=Europe/Paris:20260426T235959
DTSTAMP;TZID=Europe/Paris:20260425T162854
END:VEVENT
END:VCALENDAR