BEGIN:VCALENDAR
VERSION:2.0
PRODID:spatie/icalendar-generator
NAME:Scénographie des rivages
X-WR-CALNAME:Scénographie des rivages
DESCRIPTION:Ville de Saint-Sebastien-sur-Loire
X-WR-CALDESC:Ville de Saint-Sebastien-sur-Loire
BEGIN:VEVENT
UID:69eccdbff29dd
SUMMARY:Scénographie des rivages
DESCRIPTION:Exposition de peintures de Luc Vigier\n
DTSTART;TZID=Europe/Paris:20260509T000000
DTEND;TZID=Europe/Paris:20260510T235959
DTSTAMP;TZID=Europe/Paris:20260425T162047
END:VEVENT
END:VCALENDAR