BEGIN:VCALENDAR
VERSION:2.0
PRODID:spatie/icalendar-generator
NAME:Tout un monde à ma fenêtre
X-WR-CALNAME:Tout un monde à ma fenêtre
DESCRIPTION:Ville de Saint-Sebastien-sur-Loire
X-WR-CALDESC:Ville de Saint-Sebastien-sur-Loire
BEGIN:VEVENT
UID:69ecd1f391fe9
SUMMARY:Tout un monde à ma fenêtre
DESCRIPTION:Exposition de photographies d’Henri-Claude Marché\n
DTSTART;TZID=Europe/Paris:20260516T000000
DTEND;TZID=Europe/Paris:20260517T235959
DTSTAMP;TZID=Europe/Paris:20260425T163843
END:VEVENT
END:VCALENDAR